BEGIN:VCALENDAR
VERSION:2.0
PRODID:-//https://www.ashs.at///NONSGML kigkonsult.se iCalcreator 2.10.15//
METHOD:PUBLISH
BEGIN:VEVENT
UID:20260425T155739CEST-7286ECizST@https://www.ashs.at/
DTSTAMP:20260425T135739Z
DESCRIPTION:Herzliche Einladung zur Teilnahmean einem kraftvollen Feuer-Rit
 ual\,an der DHANVANTRI HOMA\nIm Golden Age Movement werden regelmäßig kraf
 tvolle Rituale mit entsprechenden Absichten durchgeführt\,um unser spiritu
 elles Wachstum und das Erfüllen unserer Wünsche zu unterstützen.Eines der 
 kraftvollsten Rituale ist das Feuer-Ritual (Homa).Diese kraftvollen und au
 fwendigen Rituale mit Gebeten undheiligen Gesängen sind eine große Hilfefü
 r die Beseitigung negativer Einflüsse oder Hindernisse undfür die Erfahrun
 g konstruktiver\, positiver Energien in unserem Leben.\nDie besondere DHAN
 VANTRI HOMA  ist den Gründern der Medizin gewidmet und wird durchgeführt f
 ür:\n• Gute Gesundheit.• Unterstützung bei physischen und psychischen Heil
 ungsprozessen. • Unterstützung bei chronischen Krankheiten. \nFür die Teil
 nehmerInnen wird am Ende der Homa ein spezielles Heilungsprogramm zur Unte
 rstützung durchgeführt.\nWeitere Informationen:Dieses Ritual wird nicht on
 line übertragen\;die Teilnehmenden sind geistig durch ihre Namen vertreten
 .Für diese Homa kannst du dich wie folgt registrieren:\nIndividuell \nDie 
 Homa wird für dich mit allen registrierten Teilnehmern zusammen am Haupt-H
 oma-Feuer durchgeführt:: EUR bzw. USD 201/Person\nFamily\n1 Homa-Feuer für
  deine Familie: EUR bzw. USD 603/Familie (Max. 4 Personen)\n\nIndividuell 
 spezifisch\n1 Homa-Feuer nur für dich: EUR bzw. USD 804/PersonAnmeldeschlu
 ss: 26. April 2026\, 10:00 Uhr. https://www.ashs.at/component/rseventspro/
 event/750-dhanvantri-homa-fuer-gesundheit?Itemid=101
DTSTART:20260427T220000Z
DTEND:20260428T000000Z
LOCATION:Nemam\, Indien ()
SUMMARY:Dhanvantri Homa - für Gesundheit
URL:https://www.ashs.at/component/rseventspro/event/750-dhanvantri-homa-fue
 r-gesundheit?Itemid=101
END:VEVENT
END:VCALENDAR
