BEGIN:VCALENDAR
VERSION:2.0
PRODID:-//https://www.ashs.at///NONSGML kigkonsult.se iCalcreator 2.10.15//
METHOD:PUBLISH
BEGIN:VEVENT
UID:20260422T121624CEST-48876Hci2M@https://www.ashs.at/
DTSTAMP:20260422T101624Z
DESCRIPTION:Herzliche Einladung zur Teilnahmean einem kraftvollen Feuer-Rit
 ual\,an der SURYA NARAYANA HOMA\nIm Golden Age Movement werden regelmäßig 
 kraftvolle Rituale mit entsprechenden Absichten durchgeführt\,um unser spi
 rituelles Wachstum und das Erfüllen unserer Wünsche zu unterstützen.Eines 
 der kraftvollsten Rituale ist das Feuer-Ritual (Homa).Diese kraftvollen un
 d aufwendigen Rituale mit Gebeten undheiligen Gesängen sind eine große Hil
 fefür die Beseitigung negativer Einflüsse oder Hindernisse undfür die Erfa
 hrung konstruktiver\, positiver Energien in unserem Leben.\nWarum die Sury
 a Narayana Homa durchführen?Die Sonne symbolisiert deine Seele in jedem As
 pekt und spiegelt den Weg deines Schicksals wider. Die Sonne zu aktivieren
 \, indem man die Homa durchführt\, während spezifische Mantras gechantet w
 erden\, ebnet den Weg für die Gnade\, um die Probleme zu lösen\, die in de
 inem Leben auftreten.Erlebe die mächtige Kraft\, die die Sonne auf dein Le
 ben ausübt\, indem du die Surya Narayana Homa an Ratha Sapthami (besondere
 r Tag im Zeichen der Sonne) durchführst und die Energie kanalisierst\, um 
 dein Wohlbefinden zu steigern.Gemäß den heiligen Schriften kann die Durchf
 ührung der Surya Narayana Homa den Planeten beruhigen und dir helfen\, die
  folgenden Segnungen zu erhalten:- Schenkt gute Gesundheit.- Bringt Glück 
 in dein Leben.- Vermeidet finanzielle Fallstricke.- Vertreibt Mittelmäßigk
 eit.- Verleiht Kraft und Energie.- Verwirkliche deine Träume und genieße e
 in wohlhabendes Leben.\n Weitere Informationen:Dieses Ritual wird nicht on
 line übertragen\;die Teilnehmenden sind geistig durch ihre Namen vertreten
 .Für diese Homa kannst du dich wie folgt registrieren:\nIndividuell \nDie 
 Homa wird für dich mit allen registrierten Teilnehmern zusammen am Haupt-H
 oma-Feuer durchgeführt::€ 250/Person\nFamily\n1 Homa-Feuer für deine Famil
 ie: € 1000/Familie (Max. 4 Personen)\n\nIndividuell spezifisch\n1 Homa-Feu
 er nur für dich: € 1000/Person\nfür ein Land Es gibt auch die Möglichkeit\
 , eine Homa für ein Land durchführen zu lassen.\nDazu wird 1 Homa-Feuer fü
 r das Land verwendet.Teilnahmegebühr: € 5000Wenn du eine Homa für ein Land
  durchführen lassen möchtest\, kontaktiere uns bitte unter gam@ashs.at.\nA
 nmeldeschluss: 23. Januar 2026\, 18.00 Uhr https://www.ashs.at/component/r
 seventspro/event/730-surya-narayana-homa?Itemid=101
DTSTART:20260124T220000Z
DTEND:20260125T000000Z
LOCATION:Nemam\, Indien ()
SUMMARY:Surya Narayana Homa
URL:https://www.ashs.at/component/rseventspro/event/730-surya-narayana-homa
 ?Itemid=101
END:VEVENT
END:VCALENDAR
