BEGIN:VCALENDAR
VERSION:2.0
PRODID:-//https://www.ashs.at///NONSGML kigkonsult.se iCalcreator 2.10.15//
METHOD:PUBLISH
BEGIN:VEVENT
UID:20260421T140256CEST-8618RzTUED@https://www.ashs.at/
DTSTAMP:20260421T120256Z
DESCRIPTION:\nHerzliche Einladung zumOnenessInHeart-Abend-Retreat'Das HERZ 
 als Mittelpunkt erleben undBewusstheit & Transformation & Transzendenz &Al
 chemie des Bewusstseins fördern & aktivieren'\nDie Selbsterforschung führt
  direkt zur Selbstverwirklichung\,indem sie die Hindernisse aus dem Weg rä
 umt\,die uns glauben lassen\, das Selbst sei noch nicht verwirklicht.(Rama
 na Maharshi)\n\n\nEine höhere Ordnung sowiedie Kraft\, der Stoff & die Ene
 rgie\,die unser Universum erschaffen hat\,kann für das eigene Leben genutz
 t werden\,um alle Bereiche des geistigen wie irdischen Lebensim Einklang m
 it der Wahrheit & Wirklichkeit des Herzensgegenwärtig immer neu in Dankbar
 keit & Erfüllung zu erfahren. Im Bewusstseinsraum von OnenessInHeartbegegn
 en wir uns in einem Kreis von Menschen\, die sich selbsterforschen & schul
 en auf ihrer Bewusstseinsreise zu SICH SELBST.Im Hier & Jetzt entsteht die
  Gestaltung des Abend mit derFörderung des VerankertSeins im HERZEN\, im R
 aum von Gewahrsein!\n\nIch freue mich auf dich!HerzlichstBrunhild Liedloff
  \n\nEine Teilnahme ohne Anmeldung ist leider nicht möglich.Unsere Platzve
 rgabe für eine persönliche Teilnahme erfolgt in der Reihenfolge der Anmeld
 ungen.Falls alle Plätze vergeben sind\, nehme bitte Online via Zoom teil\;
 wir informieren dich entsprechend und danken dir im Voraus für dein Verstä
 ndnis. https://www.ashs.at/component/rseventspro/event/706-onenessinheart-
 im-kreis-von-menschen?Itemid=101
DTSTART:20260702T170000Z
DTEND:20260702T200000Z
LOCATION:Spirituelle Praxis Salzburg & Online via Zoom ()
SUMMARY:OnenessInHeart im Kreis von Menschen
URL:https://www.ashs.at/component/rseventspro/event/706-onenessinheart-im-k
 reis-von-menschen?Itemid=101
END:VEVENT
END:VCALENDAR
