BEGIN:VCALENDAR
VERSION:2.0
PRODID:-//https://www.ashs.at///NONSGML kigkonsult.se iCalcreator 2.10.15//
METHOD:PUBLISH
BEGIN:VEVENT
UID:20260420T082414CEST-2109FUnSPw@https://www.ashs.at/
DTSTAMP:20260420T062414Z
DESCRIPTION: \nHerzliche Einladung zumOnenessInHeart-Retreat- AusBildung de
 iner Wahren WesensNatur -'Die Kunst der Alchemie des Bewusstseins'\n- Eine
  Quelle der Bewusstwerdung -\n \nModul 2Die Erweckung unseres innewohnende
 n Alchemistenund die Macht des\n'Geistes über die Materie' \n\n Sich der T
 atsache 'GEIST formt Materie' gewahr zu werden\,erweitertet deine Wahrnehm
 ung im Sinne'wer bin ich' und 'welche Kraft lebt in mir'\,ermöglicht exist
 entielles spirituelles Wachstum und eineBegegnung mit der dir innewohnende
 n spirituellen Dimension.Wir öffnenden Bewusstseinsraum der 'EinheitImHerz
 en'\, fühlen uns in unserem Herzen und begegnen bewusst derLEBENSENERGIE\,
 die die Kraft zur Heilung aller Lebensbereiche hervorbringt.Wir erweckendi
 e uns innewohnende transformatorisch und transzendent wirkendeLICHT- und L
 IEBESKRAFT\,um von den Anhaftungen an die Vergangenheit befreit zu sein.Ge
 nauso wie eine Schlange ihre Haut abstreift\,müssen wir immer wieder von n
 euemunsere Vergangenheit abstreifen.(Buddha)Wir initiieren\,uns geistig üb
 er die unbewussten Ebenen unserer Selbst zu erheben sowiebewusstere Handlu
 ngen zu unserem Wohl & zum Wohle des Ganzen vorzunehmen.\nWir entfachendie
  Alchemie des Bewusstseinsfür das Erlangen der\nMeisterschaft über Sich Se
 lbstin Verbindung mit dem Herzen\nundfür das Erschaffen einer der\nWahren 
 WesensNatur gerecht werdendenGegenwart & Zukunft.Ich freue mich auf dich!H
 erzlichstBrunhild Liedloff\nEine Teilnahme ohne Anmeldung ist leider nicht
  möglich.Unsere Präsenz-Platzvergabe erfolgt in der Reihenfolge der Anmeld
 ungen.Falls alle Plätze vergeben sind\, nehme bitte online via Zoom teil\;
 wir informieren dich entsprechend und danken dir im Voraus für dein Verstä
 ndnis.\n https://www.ashs.at/component/rseventspro/event/644-die-kunst-der
 -alchemie-des-bewusstseins?Itemid=101
DTSTART:20250913T073000Z
DTEND:20250914T170000Z
LOCATION:Spirituelle Praxis Salzburg & Online via Zoom ()
SUMMARY:Die Kunst der Alchemie des Bewusstseins
URL:https://www.ashs.at/component/rseventspro/event/644-die-kunst-der-alche
 mie-des-bewusstseins?Itemid=101
END:VEVENT
END:VCALENDAR
