BEGIN:VCALENDAR
VERSION:2.0
PRODID:-//https://www.ashs.at///NONSGML kigkonsult.se iCalcreator 2.10.15//
METHOD:PUBLISH
BEGIN:VEVENT
UID:20260423T192529CEST-2777gkpCx8@https://www.ashs.at/
DTSTAMP:20260423T172529Z
DESCRIPTION:Herzliche Einladungzum SATSANG'Streben nach der höchsten Einhei
 t\,Erfahrung der ursprünglichen Natur'mitden Lehren der Avatare Sri Amma u
 nd Sri Bhagavan\,Meditation und Energieübertragung.Herzlich Willkommen!\nE
 ine Teilnahme ohne Anmeldung ist leider nicht möglich.Die Plätze sind begr
 enzt\; die Platzvergabe erfolgt in der Reihenfolge der Anmeldungen.\n http
 s://www.ashs.at/component/rseventspro/event/208-satsang?Itemid=101
DTSTART:20200827T170000Z
DTEND:20200827T190000Z
LOCATION: ()
SUMMARY:Satsang
URL:https://www.ashs.at/component/rseventspro/event/208-satsang?Itemid=101
END:VEVENT
END:VCALENDAR
