BEGIN:VCALENDAR
VERSION:2.0
PRODID:-//https://www.ashs.at///NONSGML kigkonsult.se iCalcreator 2.10.15//
METHOD:PUBLISH
BEGIN:VEVENT
UID:20260421T001744CEST-8835jJAoV2@https://www.ashs.at/
DTSTAMP:20260420T221744Z
DESCRIPTION:    Eine Reise ins Glücklichsein\n- ein Event\, das gleichzeiti
 g in ganz Europa stattfindet undvon einer Lehrerin des Golden Age Movement
 svia Live-Video-Schaltung aus Indien geleitet wird -Inhalte:Transformation
  im Bewusstsein(Verbesserung erfahren in den BereichenBeziehungen\, Gesund
 heit\, Finanzen\, Erfolgsowie Aktivierung der Lösung von Problemen)Verände
 rung der WahrnehmungStressreduktion im VerstandTief empfundener innerer Fr
 iedenWeisheit und Liebe ist in allen transformatorisch wirkenden Lehren sp
 ürbar\,und ein Höhepunkt des Tages ist die Übertragung einer besonderen De
 eksha.HERZLICH WILLKOMMENzu einem Tag tiefer persönlicher Transformation!
 \n \nEvent-Organisation:Inge A. S. CarlE-Mail: salzburg-gam@sbg.atMobil: +
 43 676 6579955 https://www.ashs.at/component/rseventspro/event/160-a-journ
 ey-into-happiness-eine-reise-ins-gluecklichsein?Itemid=101
DTSTART:20191015T061500Z
DTEND:20191015T170000Z
LOCATION:Amadeo Hotel Schaffenrath (Alpenstraße 115/117\, 5020 Salzburg)
SUMMARY:A Journey into Happiness * Eine Reise ins Glücklichsein
URL:https://www.ashs.at/component/rseventspro/event/160-a-journey-into-happ
 iness-eine-reise-ins-gluecklichsein?Itemid=101
END:VEVENT
END:VCALENDAR
